BEGIN:VCALENDAR
VERSION:2.0
PRODID:-//Parasta osaamista - ECPv6.15.20//NONSGML v1.0//EN
CALSCALE:GREGORIAN
METHOD:PUBLISH
X-ORIGINAL-URL:https://blogit.gradia.fi/parasta_osaamista
X-WR-CALDESC:Tapahtumat Parasta osaamista
REFRESH-INTERVAL;VALUE=DURATION:PT1H
X-Robots-Tag:noindex
X-PUBLISHED-TTL:PT1H
BEGIN:VTIMEZONE
TZID:Europe/Helsinki
BEGIN:DAYLIGHT
TZOFFSETFROM:+0200
TZOFFSETTO:+0300
TZNAME:EEST
DTSTART:20170326T010000
END:DAYLIGHT
BEGIN:STANDARD
TZOFFSETFROM:+0300
TZOFFSETTO:+0200
TZNAME:EET
DTSTART:20171029T010000
END:STANDARD
BEGIN:DAYLIGHT
TZOFFSETFROM:+0200
TZOFFSETTO:+0300
TZNAME:EEST
DTSTART:20180325T010000
END:DAYLIGHT
BEGIN:STANDARD
TZOFFSETFROM:+0300
TZOFFSETTO:+0200
TZNAME:EET
DTSTART:20181028T010000
END:STANDARD
BEGIN:DAYLIGHT
TZOFFSETFROM:+0200
TZOFFSETTO:+0300
TZNAME:EEST
DTSTART:20190331T010000
END:DAYLIGHT
BEGIN:STANDARD
TZOFFSETFROM:+0300
TZOFFSETTO:+0200
TZNAME:EET
DTSTART:20191027T010000
END:STANDARD
END:VTIMEZONE
BEGIN:VEVENT
DTSTART;TZID=Europe/Helsinki:20180523T093000
DTEND;TZID=Europe/Helsinki:20180523T113000
DTSTAMP:20260421T050616
CREATED:20180507T111811Z
LAST-MODIFIED:20180507T115228Z
UID:307-1527067800-1527075000@blogit.gradia.fi
SUMMARY:Uraohjaus -työpaja
DESCRIPTION:Paikka: Salpaus\, Heinola \nKouluttaja: Ismo Turve\, HAMK Ammatillinen opettajakorkeakoulu \nIlmoittautuminen viimeistään 16.5.2018 \nhttps://goo.gl/forms/MU1azKdBzW6HbDKL2
URL:https://blogit.gradia.fi/parasta_osaamista/event/uraohjaus-tyopaja-3/
END:VEVENT
BEGIN:VEVENT
DTSTART;TZID=Europe/Helsinki:20180523T093000
DTEND;TZID=Europe/Helsinki:20180523T113000
DTSTAMP:20260421T050616
CREATED:20180507T112039Z
LAST-MODIFIED:20180507T115316Z
UID:311-1527067800-1527075000@blogit.gradia.fi
SUMMARY:Arviointityöpaja
DESCRIPTION:Paikka: HAMK\, Hämeenlinna \nKouluttaja: Anita Eskola-Kronqvist\, HAMK Ammatillinen opettajakorkeakoulu \nIlmoittautuminen viimeistään 16.5.2018 \nhttps://goo.gl/forms/MU1azKdBzW6HbDKL2
URL:https://blogit.gradia.fi/parasta_osaamista/event/arviointityopaja-3/
END:VEVENT
BEGIN:VEVENT
DTSTART;TZID=Europe/Helsinki:20180523T093000
DTEND;TZID=Europe/Helsinki:20180523T113000
DTSTAMP:20260421T050616
CREATED:20180507T112210Z
LAST-MODIFIED:20180507T115349Z
UID:313-1527067800-1527075000@blogit.gradia.fi
SUMMARY:Henkilökohtaistaminen -työpaja
DESCRIPTION:Paikka: HAMK\, Hämeenlinna \nKouluttaja: Tomi Raitanen\, HAMK Ammatillinen opettajakorkeakoulu \nIlmoittautuminen viimeistään 16.5.2018 \nhttps://goo.gl/forms/MU1azKdBzW6HbDKL2
URL:https://blogit.gradia.fi/parasta_osaamista/event/henkilokohtaistaminen-tyopaja/
END:VEVENT
BEGIN:VEVENT
DTSTART;TZID=Europe/Helsinki:20180523T123000
DTEND;TZID=Europe/Helsinki:20180523T143000
DTSTAMP:20260421T050616
CREATED:20180507T111915Z
LAST-MODIFIED:20180507T111915Z
UID:309-1527078600-1527085800@blogit.gradia.fi
SUMMARY:Työelämäyhteistyö/ -verkostot työpaja
DESCRIPTION:Paikka: Salpaus\, Heinola \nKouluttaja: Ismo Turve\, HAMK Ammatillinen opettajakorkeakoulu \nIlmoittautuminen viimeistään 16.5.2018 \nhttps://goo.gl/forms/MU1azKdBzW6HbDKL2
URL:https://blogit.gradia.fi/parasta_osaamista/event/tyoelamayhteistyo-verkostot-tyopaja-3/
END:VEVENT
BEGIN:VEVENT
DTSTART;TZID=Europe/Helsinki:20180523T140000
DTEND;TZID=Europe/Helsinki:20180523T153000
DTSTAMP:20260421T050616
CREATED:20180511T065054Z
LAST-MODIFIED:20180511T065054Z
UID:349-1527084000-1527089400@blogit.gradia.fi
SUMMARY:Rohkeasti uudistumaan -webinaari
DESCRIPTION:Keskustelutilaisuus Lapin sekä Etelä- ja Pohjois-Pohjanmaan koulutuksen järjestäjille. \nKeskustelun vetäjinä toimivat Ulla Mäntykangas ja Päivi Kilja Oulun ammatillisesta opettajakorkeakoulusta.
URL:https://blogit.gradia.fi/parasta_osaamista/event/rohkeasti-uudistumaan-webinaari/
END:VEVENT
END:VCALENDAR