BEGIN:VCALENDAR
VERSION:2.0
PRODID:-//Parasta osaamista - ECPv6.15.20//NONSGML v1.0//EN
CALSCALE:GREGORIAN
METHOD:PUBLISH
X-WR-CALNAME:Parasta osaamista
X-ORIGINAL-URL:https://blogit.gradia.fi/parasta_osaamista
X-WR-CALDESC:Tapahtumat Parasta osaamista
REFRESH-INTERVAL;VALUE=DURATION:PT1H
X-Robots-Tag:noindex
X-PUBLISHED-TTL:PT1H
BEGIN:VTIMEZONE
TZID:Europe/Helsinki
BEGIN:DAYLIGHT
TZOFFSETFROM:+0200
TZOFFSETTO:+0300
TZNAME:EEST
DTSTART:20170326T010000
END:DAYLIGHT
BEGIN:STANDARD
TZOFFSETFROM:+0300
TZOFFSETTO:+0200
TZNAME:EET
DTSTART:20171029T010000
END:STANDARD
BEGIN:DAYLIGHT
TZOFFSETFROM:+0200
TZOFFSETTO:+0300
TZNAME:EEST
DTSTART:20180325T010000
END:DAYLIGHT
BEGIN:STANDARD
TZOFFSETFROM:+0300
TZOFFSETTO:+0200
TZNAME:EET
DTSTART:20181028T010000
END:STANDARD
BEGIN:DAYLIGHT
TZOFFSETFROM:+0200
TZOFFSETTO:+0300
TZNAME:EEST
DTSTART:20190331T010000
END:DAYLIGHT
BEGIN:STANDARD
TZOFFSETFROM:+0300
TZOFFSETTO:+0200
TZNAME:EET
DTSTART:20191027T010000
END:STANDARD
END:VTIMEZONE
BEGIN:VEVENT
DTSTART;TZID=Europe/Helsinki:20180522T093000
DTEND;TZID=Europe/Helsinki:20180522T113000
DTSTAMP:20260421T063900
CREATED:20180507T111524Z
LAST-MODIFIED:20180507T115125Z
UID:303-1526981400-1526988600@blogit.gradia.fi
SUMMARY:Arviointityöpaja
DESCRIPTION:Paikka: HAMK\, Hämeenlinna \nKouluttaja: Anita Eskola-Kronqvist\, HAMK Ammatillinen opettajakorkeakoulu \nIlmoittautuminen viimeistään 16.5.2018 \nhttps://goo.gl/forms/MU1azKdBzW6HbDKL2
URL:https://blogit.gradia.fi/parasta_osaamista/event/arviointityopaja-2/
END:VEVENT
BEGIN:VEVENT
DTSTART;TZID=Europe/Helsinki:20180522T093000
DTEND;TZID=Europe/Helsinki:20180522T113000
DTSTAMP:20260421T063900
CREATED:20180507T111656Z
LAST-MODIFIED:20180507T115158Z
UID:305-1526981400-1526988600@blogit.gradia.fi
SUMMARY:Työelämäyhteistyö/ -verkostot työpaja
DESCRIPTION:Paikka: HAMK\, Hämeenlinna \nKouluttaja: Ismo Turve\, HAMK Ammatillinen opettajakorkeakoulu \nIlmoittautuminen viimeistään 16.5.2018 \nhttps://goo.gl/forms/MU1azKdBzW6HbDKL2
URL:https://blogit.gradia.fi/parasta_osaamista/event/tyoelamayhteistyo-verkostot-tyopaja-2/
END:VEVENT
END:VCALENDAR