BEGIN:VCALENDAR
VERSION:2.0
PRODID:-//Parasta osaamista - ECPv6.15.20//NONSGML v1.0//EN
CALSCALE:GREGORIAN
METHOD:PUBLISH
X-WR-CALNAME:Parasta osaamista
X-ORIGINAL-URL:https://blogit.gradia.fi/parasta_osaamista
X-WR-CALDESC:Tapahtumat Parasta osaamista
REFRESH-INTERVAL;VALUE=DURATION:PT1H
X-Robots-Tag:noindex
X-PUBLISHED-TTL:PT1H
BEGIN:VTIMEZONE
TZID:Europe/Helsinki
BEGIN:DAYLIGHT
TZOFFSETFROM:+0200
TZOFFSETTO:+0300
TZNAME:EEST
DTSTART:20170326T010000
END:DAYLIGHT
BEGIN:STANDARD
TZOFFSETFROM:+0300
TZOFFSETTO:+0200
TZNAME:EET
DTSTART:20171029T010000
END:STANDARD
BEGIN:DAYLIGHT
TZOFFSETFROM:+0200
TZOFFSETTO:+0300
TZNAME:EEST
DTSTART:20180325T010000
END:DAYLIGHT
BEGIN:STANDARD
TZOFFSETFROM:+0300
TZOFFSETTO:+0200
TZNAME:EET
DTSTART:20181028T010000
END:STANDARD
BEGIN:DAYLIGHT
TZOFFSETFROM:+0200
TZOFFSETTO:+0300
TZNAME:EEST
DTSTART:20190331T010000
END:DAYLIGHT
BEGIN:STANDARD
TZOFFSETFROM:+0300
TZOFFSETTO:+0200
TZNAME:EET
DTSTART:20191027T010000
END:STANDARD
END:VTIMEZONE
BEGIN:VEVENT
DTSTART;TZID=Europe/Helsinki:20180515T093000
DTEND;TZID=Europe/Helsinki:20180515T113000
DTSTAMP:20260422T154000
CREATED:20180507T110606Z
LAST-MODIFIED:20180507T114909Z
UID:291-1526376600-1526383800@blogit.gradia.fi
SUMMARY:Arviointityöpaja
DESCRIPTION:Paikka: HAMK\, Hämeenlinna \nKouluttaja: Anita Eskola-Kronqvist\, HAMK Ammatillinen korkeakoulu \nIlmoittautuminen viimeistään 8.5.2018 \nhttps://goo.gl/forms/MU1azKdBzW6HbDKL2 \n  \n  \n 
URL:https://blogit.gradia.fi/parasta_osaamista/event/arviointityopaja/
END:VEVENT
BEGIN:VEVENT
DTSTART;TZID=Europe/Helsinki:20180515T093000
DTEND;TZID=Europe/Helsinki:20180515T113000
DTSTAMP:20260422T154000
CREATED:20180507T111005Z
LAST-MODIFIED:20180507T114937Z
UID:297-1526376600-1526383800@blogit.gradia.fi
SUMMARY:Uraohjaus -työpaja
DESCRIPTION:Paikka: HAMK\, Hämeenlinna \nKouluttaja: Ismo Turve\, HAMK Ammatillinen korkeakoulu \nIlmoittautuminen viimeistään 8.5.2018 \nhttps://goo.gl/forms/MU1azKdBzW6HbDKL2
URL:https://blogit.gradia.fi/parasta_osaamista/event/uraohjaus-tyopaja/
END:VEVENT
END:VCALENDAR